BEGIN:VCALENDAR
VERSION:2.0
PRODID:-//Library Market//iCal Export//EN
BEGIN:VEVENT
SUMMARY:Lighthouse: A Program for LGBTQ+ Youth
UID:39216
DTSTAMP:20260421T081100Z
DTSTART:20260515T190000Z
DTEND:20260515T200000Z
LOCATION:137 Old Ridgefield Rd, Wilton, CT 06897, United States
ROOM: Presidents&#039; Room
DESCRIPTION:Lighthouse serves lesbian, gay, bisexual, transgender, queer+
  (LGBTQ+) teens and their allies with a welcoming, safe space. Lighthouse
  empowers LGBTQ youth to clarify issues, gain skills and resiliency, and 
 envision and seek healthy, productive, and fulfilling adult lives.Teens ca
 n drop in to share life experiences and feelings, socialize, snack, play g
 ames, and share common bonds in Lighthouse’s confidential, non-threate
 ning environment. Attendees are welcome to gather in the Teen Room at 3pm.
URL:https://wilton.librarycalendar.com/event/lighthouse-program-lgbtq-yout
 h-39216
END:VEVENT
END:VCALENDAR
