BEGIN:VCALENDAR
VERSION:2.0
PRODID:-//Library Market//iCal Export//EN
BEGIN:VEVENT
SUMMARY:High on AI with David Ferrucci, Award-Winning AI Scientist, IBM Re
 search Fellow and Entrepreneur
UID:45339
DTSTAMP:20260420T103000Z
DTSTART:20260519T230000Z
DTEND:20260520T003000Z
LOCATION:137 Old Ridgefield Rd, Wilton, CT 06897, United States
ROOM: Brubeck Room
DESCRIPTION:Please join us for a fascinating look at the current state of 
 artificial intelligence and where it&#039;s going with David Ferrucci, the
  AI scientist who led IBM&#039;s Watson to victory over its human opponent
 s on Jeopardy in 2011! Artificial Intelligence is rapidly reshaping everyt
 hing from the global economy to the limits of personal achievement, accele
 rating progress in art, science, and education. While concerns regarding p
 rivacy and bias are real, this session pivots toward the immense hope AI o
 ffers for individual empowerment. We will demystify how these tools actual
 ly function, learn to navigate the trap of over- or under-estimating their
  power, and demonstrate live how to strategically use AI to expand your ow
 n capabilities.David Ferrucci is an American computer scientist and IBM Fe
 llow best known for leading the IBM team that developed Watson, the AI sys
 tem that famously won Jeopardy! in 2011—a milestone in natural language 
 understanding. He later applied AI to organizational decision-making at Br
 idgewater Associates and founded Elemental Cognition, focused on combining
  large language models with symbolic reasoning to deliver reliable, explai
 nable enterprise AI. He currently serves as Chief AI &amp; Technology Offi
 cer at Unqork and Managing Director of the Institute for Advanced Enterpri
 se AI at the Center for Global Enterprise, with a career centered on advan
 cing trustworthy AI for complex decision-making.No charge. Registration re
 quired. Please register online or call 203-762-6334.
URL:https://wilton.librarycalendar.com/event/copy-hold-ai-45339
END:VEVENT
END:VCALENDAR
