BEGIN:VCALENDAR
VERSION:2.0
PRODID:-//Library Market//iCal Export//EN
BEGIN:VEVENT
SUMMARY:Start of Summer Storytime
UID:49009
DTSTAMP:20260420T103000Z
DTSTART:20260526T141500Z
DTEND:20260526T150000Z
LOCATION:137 Old Ridgefield Rd, Wilton, CT 06897, United States
ROOM: Children&#039;s Program Room
DESCRIPTION:Active babies, toddlers and preschoolers and their families ar
 e invited to join us to celebrate the start of summer with a fun morning s
 torytime.  We will share stories, sing songs, and learn rhymes.  Movemen
 t activities and some basic ASL will be included as well.  Feel free to s
 tay after to socialize.  No registration required.
URL:https://wilton.librarycalendar.com/event/start-summer-storytime-49009
END:VEVENT
END:VCALENDAR
