BEGIN:VCALENDAR
VERSION:2.0
PRODID:-//Library Market//iCal Export//EN
BEGIN:VEVENT
SUMMARY:Tales to Tails
UID:49015
DTSTAMP:20260421T095300Z
DTSTART:20260530T150000Z
DTEND:20260530T160000Z
LOCATION:137 Old Ridgefield Rd, Wilton, CT 06897, United States
ROOM: Children&#039;s Program Room
DESCRIPTION:Children who can read independently are invited to read to a R
 OAR (Ridgefield Operation Animal Rescue) Therapy Dog. The use of trained t
 herapy dogs in reading programs can result in children who feel comfortabl
 e reading out loud, read more often, attempt more difficult books, and act
 ually look forward to reading. As they improve their literacy skills, they
 &#039;re not just learning how to read, they&#039;re learning to love to r
 ead! Registration required.  Drop-ins welcome if space allows.  
URL:https://wilton.librarycalendar.com/event/tales-tails-49015
END:VEVENT
END:VCALENDAR
