BEGIN:VCALENDAR
VERSION:2.0
PRODID:-//Library Market//iCal Export//EN
BEGIN:VEVENT
SUMMARY:Bouncing Babies
UID:49028
DTSTAMP:20260421T095300Z
DTSTART:20260527T151500Z
DTEND:20260527T154500Z
LOCATION:137 Old Ridgefield Rd, Wilton, CT 06897, United States
ROOM: Children&#039;s Program Room
DESCRIPTION:Join us for this interactive program especially for pre-walkin
 g babies from birth on up.  We will share stories, songs, and rhymes. Sca
 rves and movement activities will be included, as well as some basic ASL a
 nd we will close out with a calming lullaby.  Feel free to stay after to 
 socialize.No Registration required. 
URL:https://wilton.librarycalendar.com/event/bouncing-babies-49028
END:VEVENT
END:VCALENDAR
