BEGIN:VCALENDAR
VERSION:2.0
PRODID:-//Library Market//iCal Export//EN
BEGIN:VEVENT
SUMMARY:Pressed Flower Bookmarks
UID:49335
DTSTAMP:20260422T050300Z
DTSTART:20260521T200000Z
DTEND:20260521T210000Z
LOCATION:137 Old Ridgefield Rd, Wilton, CT 06897, United States
ROOM: Presidents&#039; Room
DESCRIPTION:Celebrate the warm weather with this is easy - and beautiful! 
 - craft. Create your own one-of-a-kind bookmark using dried flowers and co
 lorful tassels. It&#039;s a great way to pretty up your TBR pile of print 
 books! This program is for teens in grades 6-12. Registration is required
  as space is limited. 
URL:https://wilton.librarycalendar.com/event/pressed-flower-bookmarks-4933
 5
END:VEVENT
END:VCALENDAR
