BEGIN:VCALENDAR
VERSION:2.0
PRODID:-//Library Market//iCal Export//EN
BEGIN:VEVENT
SUMMARY:Snap Circuits for Grades K-2
UID:49496
DTSTAMP:20260423T054500Z
DTSTART:20260514T203000Z
DTEND:20260514T211500Z
LOCATION:137 Old Ridgefield Rd, Wilton, CT 06897, United States
ROOM: Children&#039;s Program Room
DESCRIPTION:Kids in grades K-2 can put together creations that will whistl
 e, flash and fly.  Learning principles of electronics and engineering is 
 a snap! Registration required. Drop-ins welcome if space allows.
URL:https://wilton.librarycalendar.com/event/snap-circuits-grades-k-2-4949
 6
END:VEVENT
END:VCALENDAR
