BEGIN:VCALENDAR
VERSION:2.0
PRODID:-//Library Market//iCal Export//EN
BEGIN:VEVENT
SUMMARY:Paint it Up!
UID:49992
DTSTAMP:20260424T184800Z
DTSTART:20260708T143000Z
DTEND:20260708T160000Z
LOCATION:137 Old Ridgefield Rd, Wilton, CT 06897, United States
ROOM: Rimer Room
DESCRIPTION:We have added a daytime session to our very popular Paint it U
 p!  program.  Come join us for a fun and relaxing morning. We&#039;ll su
 pply the canvas, paints, brushes and a collection of masterpieces to copy 
 and inspire you. No art experience required. Just a desire to pick up a br
 ush, have fun and let your inner self out!For adults, ages 18+. Space limi
 ted. Registration required. 
URL:https://wilton.librarycalendar.com/event/paint-it-49992
END:VEVENT
END:VCALENDAR
