BEGIN:VCALENDAR
VERSION:2.0
PRODID:-//Library Market//iCal Export//EN
BEGIN:VEVENT
SUMMARY:Paint it Up!
UID:49999
DTSTAMP:20260423T054500Z
DTSTART:20261027T220000Z
DTEND:20261027T233000Z
LOCATION:137 Old Ridgefield Rd, Wilton, CT 06897, United States
ROOM: Rimer Room
DESCRIPTION:Come join us for a fun and relaxing evening. We&#039;ll supply
  the canvas, paints, brushes and a collection of masterpieces to copy and 
 inspire you. No art experience required. Just a desire to pick up a brush,
  have fun and let your inner self out!For adults, ages 18+. Space limited.
  Registration required. 
URL:https://wilton.librarycalendar.com/event/paint-it-49999
END:VEVENT
END:VCALENDAR
