BEGIN:VCALENDAR
VERSION:2.0
PRODID:-//Library Market//iCal Export//EN
BEGIN:VEVENT
SUMMARY:Dungeons &amp; Dragons: The Warlock&#039;s Crypt
UID:50292
DTSTAMP:20260424T133100Z
DTSTART:20260708T183000Z
DTEND:20260708T210000Z
LOCATION:137 Old Ridgefield Rd, Wilton, CT 06897, United States
ROOM: Rimer Room
DESCRIPTION:In this short adventure, players will delve into an undergroun
 d crypt and face the evil that lurks within. Session 1 will be for charact
 er creation and explaining rules to new players before we start the advent
 ure. Sessions 2 and 3 will be for completing the adventure. Dice, characte
 r sheets, and miniatures will be provided by the library. This adventure w
 ill use the Legacy 5th edition rules and is for Level 3 characters.This pr
 ogram is for Grades 6-12. Registration is required as space is limited.
URL:https://wilton.librarycalendar.com/event/dungeons-dragons-50292
END:VEVENT
END:VCALENDAR
